BEGIN:VCALENDAR
VERSION:2.0
PRODID:-//RIGHTHERE//CALENDARIZE IT V3.2//EN
BEGIN:VTIMEZONE
TZID:America/New_York
X-MICROSOFT-CDO-TZID:10
BEGIN:STANDARD
DTSTART:20251102T060000
TZOFFSETFROM:-0400
TZOFFSETTO:-0500
TZNAME:EST
END:STANDARD
BEGIN:DAYLIGHT
DTSTART:20260308T070000
TZOFFSETFROM:-0500
TZOFFSETTO:-0400
TZNAME:EDT
END:DAYLIGHT
BEGIN:STANDARD
DTSTART:20261101T060000
TZOFFSETFROM:-0400
TZOFFSETTO:-0500
TZNAME:EST
END:STANDARD
END:VTIMEZONE
BEGIN:VEVENT
UID:35634-events@www.ctyankee.org
DTSTART;VALUE=DATE:20260102
DTEND;VALUE=DATE:20260105
DTSTAMP;TZID=America/New_York:20250811T173848
SUMMARY:National Youth Leadership Training (NYLT) Winter 2026
RDATE;TZID=America/New_York;VALUE=PERIOD:20260109T000000/20260111T000000
URL:https://www.ctyankee.org/events/nylt-winter-2026/
ORGANIZER;CN=Scouts BSA:
LOCATION:Camp Workcoeman
END:VEVENT
END:VCALENDAR